Workbook

Sheet Quick Quote 
B1: Livestock Insurance - Quote
D3: Type of Sale | F3: Auction - Catalogue | I3: =IF(F3='drop downs'!A2,"Private Sale - Quote only and Premiums subject to documentation","") | K3: info about sales | U3: All State
D4: Date of Sale (can change) | F4: =TODAY() -> 46308 | I4: =IF(N4>14,"Premiums are subect to referral due to time since sale","") | K4: info about dates
D5: Policy Type | F5: Stud - Livestock | V5: Mortality only for -
D6: Animal Type | F6: BULLS | I6: =IF(F6="Other","Refer","") | K6: info about animals | U6: =CONCATENATE(F6) -> BULLS | V6: =LOOKUP(F6,'drop downs'!E1:E6,'drop downs'!F1:F6) -> 0 | X6: =CONCATENATE(V5,F6) -> Mortality only for - BULLS
D7: Cover Type | F7: Loss of Use Accident & Illness | I7: =IF(V6=1,X6,"") | U7: =CONCATENATE(F7) -> Loss of Use Accident & Illness
D8: Cover Period | F8: Twelve Months | U8: =CONCATENATE(F8) -> Twelve Months | V8: =LOOKUP(U8,'drop downs'!N1:N2,'drop downs'!O1:O2) -> 12M
D9: Preferred Claim Excess | F9: 0 | U9: =CONCATENATE(F9) -> 0
U10: Code | V10: Rate
D11: Animal destination (State only) | F11: NSW | U11: =CONCATENATE($U$6,"-",$V$8,"-","Less 50","-",$U$7,"-",$F$9) -> BULLS-12M-Less 50-Loss of Use Accident & Illness-0 | V11: =LOOKUP(U11,'All State Rates '!G:G,'All State Rates '!F:F) -> 0.1185 | X11: =LOOKUP(U11,'All State Rates '!G:G,'All State Rates '!G:G) -> BULLS-12M-Less 50-Loss of Use Accident & Illness-0 | AA11: =IF(U11=X11,V11,0) -> 0.1185
U12: =CONCATENATE($U$6,"-",$V$8,"-","More 50","-",$U$7,"-",$F$9) -> BULLS-12M-More 50-Loss of Use Accident & Illness-0 | V12: =LOOKUP(U12,'All State Rates '!G:G,'All State Rates '!F:F) -> 0.1316 | X12: =LOOKUP(U12,'All State Rates '!G:G,'All State Rates '!G:G) -> BULLS-12M-More 50-Loss of Use Accident & Illness-0 | AA12: =IF(U12=X12,V12,0) -> 0.1316
C13: Is there any animals less than 3 month old? | J13: NO | K13: =IF(J13="YES","Unable to Quote - Refer","")
C14: =CONCATENATE('drop downs'!A26) -> Are any of the animals over 5 years of age? | J14: NO | K14: =IF(J14="YES","Unable to Quote - Refer","") | U14: Rate | V14: Excess | W14: Stamp | X14: Fee
C15: Have you had 2 or more livestock Insurance claims in the past 5 years? | J15: NO | K15: =IF(J15="YES","Quote subject to Referral","") | U15: =IF(E19>50000,$AA$12,$AA$11) -> 0.1185 | V15: =SUM(E19*$F$9) -> 0 | W15: =LOOKUP($F$11,'drop downs'!$G$1:$G$8,'drop downs'!$H$1:$H$8) -> 0 | X15: =SUM(G19*10%) -> 0
U16: =IF(E20>50000,$AA$12,$AA$11) -> 0.1185 | V16: =SUM(E20*$F$9) -> 0 | W16: =LOOKUP($F$11,'drop downs'!$G$1:$G$8,'drop downs'!$H$1:$H$8) -> 0 | X16: =SUM(G20*10%) -> 0
U17: =IF(E21>50000,$AA$12,$AA$11) -> 0.1185 | V17: =SUM(E21*$F$9) -> 0 | W17: =LOOKUP($F$11,'drop downs'!$G$1:$G$8,'drop downs'!$H$1:$H$8) -> 0 | X17: =SUM(G21*10%) -> 0
D18: Lot | E18: Value | F18: Excess | G18: Premium | H18: GST | I18: Stamp | J18: U/W Fee | K18: Total | O18: Rate | P18: Excess | Q18: Stamp | R18: Fee | U18: =IF(E22>50000,$AA$12,$AA$11) -> 0.1185 | V18: =SUM(E22*$F$9) -> 0 | W18: =LOOKUP($F$11,'drop downs'!$G$1:$G$8,'drop downs'!$H$1:$H$8) -> 0 | X18: =SUM(G22*10%) -> 0
B19: info about sum insured | F19: =IF(E19=0,"",P19) | G19: =SUM(E19*O19) -> 0 | H19: =SUM(G19*10%) -> 0 | I19: =SUM((G19+H19)*Q19) -> 0 | K19: =SUM(G19+H19+I19+J19) -> 0 | O19: =IF($J$13="YES",U32,U15) -> 0.1185 | P19: =SUM(E19*$F$9) -> 0 | Q19: =LOOKUP($F$11,'drop downs'!$G$1:$G$8,'drop downs'!$H$1:$H$8) -> 0 | R19: =IF($J$13="YES",0,X15) -> 0 | S19: =IF(E19<50000,"Less 50","More 50") -> Less 50 | U19: =IF(E23>50000,$AA$12,$AA$11) -> 0.1185 | V19: =SUM(E23*$F$9) -> 0 | W19: =LOOKUP($F$11,'drop downs'!$G$1:$G$8,'drop downs'!$H$1:$H$8) -> 0 | X19: =SUM(G23*10%) -> 0
B20: info about excess | F20: =IF(E20=0,"",P20) | G20: =SUM(E20*O20) -> 0 | H20: =SUM(G20*10%) -> 0 | I20: =SUM((G20+H20)*Q20) -> 0 | K20: =SUM(G20+H20+I20+J20) -> 0 | O20: =IF($J$13="YES",U33,U16) -> 0.1185 | P20: =SUM(E20*$F$9) -> 0 | Q20: =LOOKUP($F$11,'drop downs'!$G$1:$G$8,'drop downs'!$H$1:$H$8) -> 0 | R20: =IF($J$13="YES",0,X16) -> 0 | S20: =IF(E20<50000,"Less 50","More 50") -> Less 50
F21: =IF(E21=0,"",P21) | G21: =SUM(E21*O21) -> 0 | H21: =SUM(G21*10%) -> 0 | I21: =SUM((G21+H21)*Q21) -> 0 | K21: =SUM(G21+H21+I21+J21) -> 0 | O21: =IF($J$13="YES",U34,U17) -> 0.1185 | P21: =SUM(E21*$F$9) -> 0 | Q21: =LOOKUP($F$11,'drop downs'!$G$1:$G$8,'drop downs'!$H$1:$H$8) -> 0 | R21: =IF($J$13="YES",0,X17) -> 0 | S21: =IF(E21<50000,"Less 50","More 50") -> Less 50
B22: =IF(N29>0,"Referral Required","") | F22: =IF(E22=0,"",P22) | G22: =SUM(E22*O22) -> 0 | H22: =SUM(G22*10%) -> 0 | I22: =SUM((G22+H22)*Q22) -> 0 | K22: =SUM(G22+H22+I22+J22) -> 0 | O22: =IF($J$13="YES",U35,U18) -> 0.1185 | P22: =SUM(E22*$F$9) -> 0 | Q22: =LOOKUP($F$11,'drop downs'!$G$1:$G$8,'drop downs'!$H$1:$H$8) -> 0 | R22: =IF($J$13="YES",0,X18) -> 0 | S22: =IF(E22<50000,"Less 50","More 50") -> Less 50
F23: =IF(E23=0,"",P23) | G23: =SUM(E23*O23) -> 0 | H23: =SUM(G23*10%) -> 0 | I23: =SUM((G23+H23)*Q23) -> 0 | K23: =SUM(G23+H23+I23+J23) -> 0 | O23: =IF($J$13="YES",U36,U19) -> 0.1185 | P23: =SUM(E23*$F$9) -> 0 | Q23: =LOOKUP($F$11,'drop downs'!$G$1:$G$8,'drop downs'!$H$1:$H$8) -> 0 | R23: =IF($J$13="YES",0,X19) -> 0 | S23: =IF(E23<50000,"Less 50","More 50") -> Less 50
G24: =SUM(G19:G23) -> 0 | H24: =SUM(H19:H23) -> 0 | I24: =SUM(I19:I23) -> 0 | J24: =SUM($O$28) -> 55 | K24: =SUM(G24:J24) -> 55
B27: Premium | G27: =SUM(G24) -> 0 | O27: RA Fee | U27: RA Rates
B28: GST | G28: =SUM(H24) -> 0 | O28: 55 | U28: Check
B29: Stamp Duty | G29: =SUM(I24) -> 0 | I29: =LOOKUP(F11,'drop downs'!G1:G8,'drop downs'!H1:H8) -> 0 | U29: =LOOKUP(U11,'Rural Affinity Rates '!G:G,'Rural Affinity Rates '!G:G) -> BULLS-12M-Less 50-Loss of Use Accident & Illness-0 | V29: =LOOKUP(U11,'Rural Affinity Rates '!G:G,'Rural Affinity Rates '!F:F) -> 0.1425 | X29: 0 | AA29: =IF(U11=U29,V29,0) -> 0.1425
B30: =CONCATENATE(J18) -> U/W Fee | G30: =SUM($O$28) -> 55 | U30: =LOOKUP(U12,'Rural Affinity Rates '!G:G,'Rural Affinity Rates '!G:G) -> BULLS-12M-More 50-Loss of Use Accident & Illness-0 | V30: =LOOKUP(U12,'Rural Affinity Rates '!G:G,'Rural Affinity Rates '!F:F) -> 0.1425 | X30: 0 | AA30: =IF(U12=U30,V30,0) -> 0.1425
B31: Total Premium | G31: =SUM(G27:H30) -> 55 | I31: =IF(F3='drop downs'!A2,"Private Sale - Quote only and Premiums subject to documentation","") | J31: Insurer : | K31: =IF(J13="YES","Rural Affinity","All State") -> All State
U32: =SUM($AA$29) -> 0.1425 | V32: =SUM(E19*$F$9) -> 0 | W32: =LOOKUP($F$11,'drop downs'!$G$1:$G$8,'drop downs'!$H$1:$H$8) -> 0
U33: =SUM($AA$29) -> 0.1425 | V33: =SUM(E20*$F$9) -> 0 | W33: =LOOKUP($F$11,'drop downs'!$G$1:$G$8,'drop downs'!$H$1:$H$8) -> 0
B34: All Excess Options - Comparison & Alternative purposes only | U34: =SUM($AA$29) -> 0.1425 | V34: =SUM(E21*$F$9) -> 0 | W34: =LOOKUP($F$11,'drop downs'!$G$1:$G$8,'drop downs'!$H$1:$H$8) -> 0
U35: =SUM($AA$29) -> 0.1425 | V35: =SUM(E22*$F$9) -> 0 | W35: =LOOKUP($F$11,'drop downs'!$G$1:$G$8,'drop downs'!$H$1:$H$8) -> 0
U36: =SUM($AA$29) -> 0.1425 | V36: =SUM(E23*$F$9) -> 0 | W36: =LOOKUP($F$11,'drop downs'!$G$1:$G$8,'drop downs'!$H$1:$H$8) -> 0
B37: 0 | C37: Lot | D37: Value | E37: Excess | F37: Premium | G37: GST | H37: Stamp | I37: UW Fee | J37: Total | L37: Base Rate
C38: =CONCATENATE($D$19) | D38: =SUM($E$19) -> 0 | E38: =SUM(D38*$B$37) -> 0 | F38: =SUM(D38*O38) -> 0 | G38: =SUM(F38*10%) -> 0 | H38: =SUM((F38+G38)*$I$29) -> 0 | J38: =SUM(F38+G38+H38+I38) -> 0 | L38: =IF(F38>0,O38,"") | O38: =LOOKUP(P38,'All State Rates '!G:G,'All State Rates '!F:F) -> 0.1185 | P38: =CONCATENATE($U$62,"-",$B$37) -> BULLS-12M-Less 50-Loss of Use Accident & Illness-0
C39: =CONCATENATE($D$20) | D39: =SUM($E$20) -> 0 | E39: =SUM(D39*$B$37) -> 0 | F39: =SUM(D39*O39) -> 0 | G39: =SUM(F39*10%) -> 0 | H39: =SUM((F39+G39)*$I$29) -> 0 | J39: =SUM(F39+G39+H39+I39) -> 0 | L39: =IF(F39>0,O39,"") | O39: =LOOKUP(P39,'All State Rates '!G:G,'All State Rates '!F:F) -> 0.1185 | P39: =CONCATENATE($U$63,"-",$B$37) -> BULLS-12M-Less 50-Loss of Use Accident & Illness-0
C40: =CONCATENATE($D$21) | D40: =SUM($E$21) -> 0 | E40: =SUM(D40*$B$37) -> 0 | F40: =SUM(D40*O40) -> 0 | G40: =SUM(F40*10%) -> 0 | H40: =SUM((F40+G40)*$I$29) -> 0 | J40: =SUM(F40+G40+H40+I40) -> 0 | L40: =IF(F40>0,O40,"") | O40: =LOOKUP(P40,'All State Rates '!G:G,'All State Rates '!F:F) -> 0.1185 | P40: =CONCATENATE($U$64,"-",$B$37) -> BULLS-12M-Less 50-Loss of Use Accident & Illness-0
C41: =CONCATENATE($D$22) | D41: =SUM($E$22) -> 0 | E41: =SUM(D41*$B$37) -> 0 | F41: =SUM(D41*O41) -> 0 | G41: =SUM(F41*10%) -> 0 | H41: =SUM((F41+G41)*$I$29) -> 0 | J41: =SUM(F41+G41+H41+I41) -> 0 | L41: =IF(F41>0,O41,"") | O41: =LOOKUP(P41,'All State Rates '!G:G,'All State Rates '!F:F) -> 0.1185 | P41: =CONCATENATE($U$65,"-",$B$37) -> BULLS-12M-Less 50-Loss of Use Accident & Illness-0
C42: =CONCATENATE($D$23) | D42: =SUM($E$23) -> 0 | E42: =SUM(D42*$B$37) -> 0 | F42: =SUM(D42*O42) -> 0 | G42: =SUM(F42*10%) -> 0 | H42: =SUM((F42+G42)*$I$29) -> 0 | J42: =SUM(F42+G42+H42+I42) -> 0 | L42: =IF(F42>0,O42,"") | O42: =LOOKUP(P42,'All State Rates '!G:G,'All State Rates '!F:F) -> 0.1185 | P42: =CONCATENATE($U$66,"-",$B$37) -> BULLS-12M-Less 50-Loss of Use Accident & Illness-0
F43: =SUM(F38:F42) -> 0 | G43: =SUM(G38:G42) -> 0 | H43: =SUM(H38:H42) -> 0 | I43: =SUM($O$28) -> 55 | J43: =SUM(F43:I43) -> 55 | U43: Options
...

Sheet Quote & Application
B1: Livestock Insurance - Quote
R2: Notes
B3: Type of Sale | E3: Auction - Catalogue | H3: =IF(E3='drop downs'!A2,"Private Sale - Quote only and Premiums subject to documentation","") | J3: info about sales | R3: if "private sale" will be quote only and email appropriate docs, subject to full application and documents
B4: Date of Sale (can change) | E4: =TODAY() -> 46308 | H4: =IF(M4>14,"Premiums are subect to referral due to time since sale","") | J4: info about dates | M4: =SUM(N4-E4) -> 0 | N4: =TODAY() -> 46308 | R4: if over 14 days refer AND WILL BE A QUOTE ONLY
B5: Policy Type
B6: Animal Type | E6: BULLS | H6: =IF(E6="Other","Refer","") | J6: info about animals | O6: =IF(E6="Ram",1,0) -> 0 | R6: When transit seelvted a further option appears on the type of transit
B7: Cover Type | E7: Mortality & Loss of Use | H7: =IF(O8>0,"Select Mortality option only","") | O7: =IF(E6="ewe",1,0) -> 0 | P7: =IF(E6="Cow",1,0) -> 0 | R7: if "other" refer
B8: Cover Period | E8: Twelve Months | O8: =SUM(O7+P7+O6) -> 0 | R8: "Loss of use cover" available for Bull & RAM animal type only
B10: Animal destination (State only) | E10: NSW
R11: used for Stamp duty calculation
E13: Lot | F13: Value | G13: Excess | H13: Lot | I13: Value | J13: Excess
B14: info about sum insured | F14: 20000 | G14: =IF($I$21="No","$0",F14*20%) -> $0 | J14: =IF($I$21="No","$0",I14*20%) -> $0
B15: info about excess | G15: =IF($I$21="No","$0",F15*20%) -> $0 | J15: =IF($I$21="No","$0",I15*20%) -> $0 | R15: gives the optons based on number selected
G16: =IF($I$21="No","$0",F16*20%) -> $0 | J16: =IF($I$21="No","$0",I16*20%) -> $0
B17: =IF(M28>0,"Referral Required","") | G17: =IF($I$21="No","$0",F17*20%) -> $0 | J17: =IF($I$21="No","$0",I17*20%) -> $0 | M17: diff rates | N17: transit only ref
G18: =IF($I$21="No","$0",F18*20%) -> $0 | J18: =IF($I$21="No","$0",I18*20%) -> $0 | M18: =IF(F14>70000,1,0) -> 0 | N18: =IF(F14>35000,1,0) -> 0 | O18: Rate | R18: Options to add Categlogue photos only required in Quote to be bound
H19: TOTAL Value | I19: {=SUM(F14:F18+I14:I18)} -> 20000 | M19: =IF(F15>70000,1,0) -> 0 | N19: =IF(F15>35000,1,0) -> 0 | O19: =SUM('Rates & Rating'!C22) -> 0.1425
M20: =IF(F16>70000,1,0) -> 0 | N20: =IF(F16>35000,1,0) -> 0 | R20: For Transit insurance cover needs to refer in any individual animal goes over $20,000
B21: Do you wish to take a 20% excess of the value of each animal to reduce premium? | H21: info | I21: NO | M21: =IF(F17>70000,1,0) -> 0 | N21: =IF(F17>35000,1,0) -> 0
B22: =IF(E5='drop downs'!C1,'drop downs'!Q1,"Postcode of departure") -> Are all animals over 6 month old, and under 7 years (Cattle) 4 year (Sheep) of age? | H22: info | I22: YES | M22: =IF(F18>70000,1,0) -> 0 | N22: =IF(F18>35000,1,0) -> 0 | R22: the number of spots apprears based on the number of lots selected
B23: Do you with to add "Theft" cover? | H23: info | I23: NO | M23: =IF(I14>70000,1,0) -> 0 | N23: =IF(I14>35000,1,0) -> 0
B24: =IF(E5='drop downs'!C1,'drop downs'!Q4,"") -> Have you had 2 or more livestock Insurance claims in the past 5 years? | G24: =IF(I24="Yes","Referral Required","") | I24: NO | M24: =IF(I15>70000,1,0) -> 0 | N24: =IF(I15>35000,1,0) -> 0
M25: =IF(I16>70000,1,0) -> 0 | N25: =IF(I16>35000,1,0) -> 0
B26: Premium | F26: =SUM(N39) -> 2850 | M26: =IF(I17>70000,1,0) -> 0 | N26: =IF(I17>35000,1,0) -> 0
B27: GST | F27: =SUM(F26*10%) -> 285 | M27: =IF(I18>70000,1,0) -> 0 | N27: =IF(I18>35000,1,0) -> 0
B28: Stamp Duty | F28: {=SUM((F26:G27)*H28)} -> 0 | H28: =IF(E5='drop downs'!C2,0%,P41) -> 0 | M28: =SUM(M18:M27) -> 0 | N28: =SUM(N18:N27) -> 0 | P28: 0
B29: Fee | F29: =IF(I19>0,82.5,0) -> 82.5
B30: Total Premium | F30: =SUM(F26:G29) -> 3217.5 | H30: =IF(E3='drop downs'!A2,"Private Sale - Quote only and Premiums subject to documentation","") | I30: Insurer : | J30: =CONCATENATE(O30) -> Rural Affinity Insurance | O30: =IF(U30>1,'Rates & Rating'!O7,P30) -> Rural Affinity Insurance | P30: =IF(N39>910,'Rates & Rating'!O8,'Rates & Rating'!O7) -> Rural Affinity Insurance | S30: =IF(E6="ram",1,0) -> 0 | T30: =IF(E7='drop downs'!F1,1,0) -> 0 | U30: =SUM(S30+T30) -> 0
M31: manditory for Stud Product | R31: if "NO" refer - default is "Yes"
M33: theft loading | O33: =SUM('Rates & Rating'!C26) -> 0 | R33: Theft Question Applies to Rural Affinity pricing only and additional rates . Questions deletes if CGU used or Transit Cover selected
B34: Application details | O34: =SUM(O19+O33) -> 0.1425
M35: excess discount | O35: =IF(I21="Yes",Q35,O34) -> 0.1425 | Q35: =SUM(O34-(O34*20%)) -> 0.114 | R35: 20% excess option applies to Rural Affinity pricing only and 20% reduction in rates. Question deletes if CGU used or transit only cover selected
B36: Sales Venue
M37: manditory for Stud Product | R37: Quote , but subject to referral if answer is "Yes"
B38: rma network agent details | O38: min | P38: Prem | Q38: =SUM(Q39+(Q39*'Rates & Rating'!T2)) -> 0.1506225 | R38: CGU loading
N39: =IF(P39<O39,O39,P39) -> 2850 | O39: 910 | P39: =SUM(I19*Q39) -> 2850 | Q39: =SUM(O35+(O35*P28)) -> 0.1425 | R39: final Rate taking into consideration of any animals over $30k and appliying the 5.5% CGU product loading
B40: Insured Name | H40: ABN
B41: (option to add additional insured) | P41: =LOOKUP(E10,'drop downs'!G1:G8,'drop downs'!H1:H8) -> 0 | R41: minimum premium for any transaction is $910 base premium
B43: Situation Address | H43: Postal | R43: Option to save as quote and email/text to all approriate parties
H44: (if different)
...

Sheet drop downs
A1: Auction - Catalogue | B1: 0 | E1: BULLS | G1: ACT | H1: 0 | J1: NO | L1: Loss of Use Accident | N1: Six Months | O1: 6M | Q1: Are all animals over 6 month old, and under 7 years (Cattle) 4 year (Sheep) of age? | T1: Over 1500km
A2: Private | B2: 0.1 | E2: COWS | F2: 1 | G2: NSW | H2: 0 | J2: YES | L2: Loss of Use Accident & Illness | N2: Twelve Months | O2: 12M | Q2: Do you with to add "Theft" cover? | T2: Stud Stock
B3: 0.15 | E3: EWES | F3: 1 | G3: NT | H3: 0.1 | L3: Mortality | Q3: Do you wish to take a 20% excess of the value of each animal to reduce premium? | T3: Under 1500km | U3: 0.5
B4: 0.2 | E4: GOATS | F4: 1 | G4: TAS | H4: 0.1 | L4: Mortality - Cows inc Parturition | Q4: Have you had 2 or more livestock Insurance claims in the past 5 years?
B5: 0.25 | E5: Other | G5: QLD | H5: 0.09
E6: RAMS | G6: SA | H6: 0.11
G7: VIC | H7: 0
G8: WA | H8: 0.1
A13: Age Limits | B13: min | C13: Max (years)
A14: BULLS | B14: 3 months | C14: 4 | D14: *** 5 years for Loss of use covers
A15: COWS | B15: 4 months | C15: 8
A16: EWES | B16: 5 months | C16: 4
A17: GOATS | B17: 6 months | C17: 4 | F17: {=CONCATENATE('Quick Quote '!F7:H7)} -> Loss of Use Accident & Illness
A18: Other | B18: 7 months | C18: 4
A19: RAMS | B19: 8 months | C19: 4
F21: Loss of Use Accident | G21: 1
A22: Are any of the animals over | C22: {=LOOKUP('Quick Quote '!F6:H6,A14:A19,C14:C19)} -> 4 | D22: #N/A | E22: #N/A | F22: Loss of Use Accident & Illness | G22: 1
A23: years of age? | C23: =LOOKUP(F17,F21:F24,G21:G24) -> 1 | F23: Mortality | G23: 0
C24: =SUM(C22:C23) -> 5 | F24: Mortality - Cows inc Parturition | G24: 0
A25: Final text
A26: =CONCATENATE(A22,"",C24," ",A23) -> Are any of the animals over 5 years of age?

Sheet Rural Affinity Rates 
A1: Type | B1: Time | C1: Value | D1: Cover | E1: Excess | F1: Rate | G1: Code
A2: BULLS | B2: 12M | C2: Less 50 | D2: Loss of Use Accident & Illness | E2: 0 | F2: 0.1425 | G2: =CONCATENATE(A2,"-",B2,"-",C2,"-",D2,"-",E2) -> BULLS-12M-Less 50-Loss of Use Accident & Illness-0
A3: BULLS | B3: 12M | C3: Less 50 | D3: Loss of Use Accident & Illness | E3: 0.2 | F3: 0.114 | G3: =CONCATENATE(A3,"-",B3,"-",C3,"-",D3,"-",E3) -> BULLS-12M-Less 50-Loss of Use Accident & Illness-0.2
A4: BULLS | B4: 12M | C4: Less 50 | D4: Mortality | E4: 0 | F4: 0.0589 | G4: =CONCATENATE(A4,"-",B4,"-",C4,"-",D4,"-",E4) -> BULLS-12M-Less 50-Mortality-0
A5: BULLS | B5: 12M | C5: Less 50 | D5: Mortality | E5: 0.2 | F5: 0.0471 | G5: =CONCATENATE(A5,"-",B5,"-",C5,"-",D5,"-",E5) -> BULLS-12M-Less 50-Mortality-0.2
A6: BULLS | B6: 12M | C6: More 50 | D6: Loss of Use Accident & Illness | E6: 0 | F6: 0.1425 | G6: =CONCATENATE(A6,"-",B6,"-",C6,"-",D6,"-",E6) -> BULLS-12M-More 50-Loss of Use Accident & Illness-0
A7: BULLS | B7: 12M | C7: More 50 | D7: Loss of Use Accident & Illness | E7: 0.2 | F7: 0.114 | G7: =CONCATENATE(A7,"-",B7,"-",C7,"-",D7,"-",E7) -> BULLS-12M-More 50-Loss of Use Accident & Illness-0.2
A8: BULLS | B8: 12M | C8: More 50 | D8: Mortality | E8: 0 | F8: 0.0589 | G8: =CONCATENATE(A8,"-",B8,"-",C8,"-",D8,"-",E8) -> BULLS-12M-More 50-Mortality-0
A9: BULLS | B9: 12M | C9: More 50 | D9: Mortality | E9: 0.2 | F9: 0.0471 | G9: =CONCATENATE(A9,"-",B9,"-",C9,"-",D9,"-",E9) -> BULLS-12M-More 50-Mortality-0.2
A10: BULLS | B10: 6M | C10: Less 50 | D10: Loss of Use Accident & Illness | E10: 0 | F10: 0.114 | G10: =CONCATENATE(A10,"-",B10,"-",C10,"-",D10,"-",E10) -> BULLS-6M-Less 50-Loss of Use Accident & Illness-0
A11: BULLS | B11: 6M | C11: Less 50 | D11: Loss of Use Accident & Illness | E11: 0.2 | F11: 0.0912 | G11: =CONCATENATE(A11,"-",B11,"-",C11,"-",D11,"-",E11) -> BULLS-6M-Less 50-Loss of Use Accident & Illness-0.2
A12: BULLS | B12: 6M | C12: Less 50 | D12: Mortality | E12: 0 | F12: 0.0471 | G12: =CONCATENATE(A12,"-",B12,"-",C12,"-",D12,"-",E12) -> BULLS-6M-Less 50-Mortality-0
A13: BULLS | B13: 6M | C13: Less 50 | D13: Mortality | E13: 0.2 | F13: 0.0377 | G13: =CONCATENATE(A13,"-",B13,"-",C13,"-",D13,"-",E13) -> BULLS-6M-Less 50-Mortality-0.2
... A33: EWES | B33: 6M | C33: More 50 | D33: Mortality | E33: 0.2 | F33: 0.0812 | G33: =CONCATENATE(A33,"-",B33,"-",C33,"-",D33,"-",E33) -> EWES-6M-More 50-Mortality-0.2
A34: GOATS | B34: 12M | C34: Less 50 | D34: Mortality | E34: 0.2 | F34: 0 | G34: =CONCATENATE(A34,"-",B34,"-",C34,"-",D34,"-",E34) -> GOATS-12M-Less 50-Mortality-0.2 | H34: No cover
A35: GOATS | B35: 12M | C35: More 50 | D35: Mortality | E35: 0.2 | F35: 0 | G35: =CONCATENATE(A35,"-",B35,"-",C35,"-",D35,"-",E35) -> GOATS-12M-More 50-Mortality-0.2 | H35: No cover
A36: GOATS | B36: 6M | C36: Less 50 | D36: Mortality | E36: 0.2 | F36: 0 | G36: =CONCATENATE(A36,"-",B36,"-",C36,"-",D36,"-",E36) -> GOATS-6M-Less 50-Mortality-0.2 | H36: No cover
A37: GOATS | B37: 6M | C37: More 50 | D37: Mortality | E37: 0.2 | F37: 0 | G37: =CONCATENATE(A37,"-",B37,"-",C37,"-",D37,"-",E37) -> GOATS-6M-More 50-Mortality-0.2 | H37: No cover
A38: RAMS | B38: 12M | C38: Less 50 | D38: Mortality | E38: 0 | F38: 0.128 | G38: =CONCATENATE(A38,"-",B38,"-",C38,"-",D38,"-",E38) -> RAMS-12M-Less 50-Mortality-0
A39: RAMS | B39: 12M | C39: Less 50 | D39: Mortality | E39: 0.2 | F39: 0.1024 | G39: =CONCATENATE(A39,"-",B39,"-",C39,"-",D39,"-",E39) -> RAMS-12M-Less 50-Mortality-0.2
A40: RAMS | B40: 12M | C40: More 50 | D40: Mortality | E40: 0 | F40: 0.128 | G40: =CONCATENATE(A40,"-",B40,"-",C40,"-",D40,"-",E40) -> RAMS-12M-More 50-Mortality-0
A41: RAMS | B41: 12M | C41: More 50 | D41: Mortality | E41: 0.2 | F41: 0.1024 | G41: =CONCATENATE(A41,"-",B41,"-",C41,"-",D41,"-",E41) -> RAMS-12M-More 50-Mortality-0.2
A42: RAMS | B42: 6M | C42: Less 50 | D42: Mortality | E42: 0 | F42: 0.0845 | G42: =CONCATENATE(A42,"-",B42,"-",C42,"-",D42,"-",E42) -> RAMS-6M-Less 50-Mortality-0
A43: RAMS | B43: 6M | C43: Less 50 | D43: Mortality | E43: 0.2 | F43: 0.0676 | G43: =CONCATENATE(A43,"-",B43,"-",C43,"-",D43,"-",E43) -> RAMS-6M-Less 50-Mortality-0.2
A44: RAMS | B44: 6M | C44: More 50 | D44: Mortality | E44: 0 | F44: 0.0845 | G44: =CONCATENATE(A44,"-",B44,"-",C44,"-",D44,"-",E44) -> RAMS-6M-More 50-Mortality-0
A45: RAMS | B45: 6M | C45: More 50 | D45: Mortality | E45: 0.2 | F45: 0.0676 | G45: =CONCATENATE(A45,"-",B45,"-",C45,"-",D45,"-",E45) -> RAMS-6M-More 50-Mortality-0.2

Sheet All State Rates 
A1: Type | B1: Time | C1: Value | D1: Cover | E1: Excess | F1: Rate | G1: Code
A2: BULLS | B2: 12M | C2: Less 50 | D2: Loss of Use Accident & Illness | E2: 0 | F2: 0.1185 | G2: =CONCATENATE(A2,"-",B2,"-",C2,"-",D2,"-",E2) -> BULLS-12M-Less 50-Loss of Use Accident & Illness-0
A3: BULLS | B3: 12M | C3: Less 50 | D3: Loss of Use Accident & Illness | E3: 0.1 | F3: 0.1066 | G3: =CONCATENATE(A3,"-",B3,"-",C3,"-",D3,"-",E3) -> BULLS-12M-Less 50-Loss of Use Accident & Illness-0.1
A4: BULLS | B4: 12M | C4: Less 50 | D4: Loss of Use Accident & Illness | E4: 0.15 | F4: 0.1007 | G4: =CONCATENATE(A4,"-",B4,"-",C4,"-",D4,"-",E4) -> BULLS-12M-Less 50-Loss of Use Accident & Illness-0.15
A5: BULLS | B5: 12M | C5: Less 50 | D5: Loss of Use Accident & Illness | E5: 0.2 | F5: 0.0948 | G5: =CONCATENATE(A5,"-",B5,"-",C5,"-",D5,"-",E5) -> BULLS-12M-Less 50-Loss of Use Accident & Illness-0.2
A6: BULLS | B6: 12M | C6: Less 50 | D6: Loss of Use Accident & Illness | E6: 0.25 | F6: 0.0888 | G6: =CONCATENATE(A6,"-",B6,"-",C6,"-",D6,"-",E6) -> BULLS-12M-Less 50-Loss of Use Accident & Illness-0.25
A7: BULLS | B7: 12M | C7: Less 50 | D7: Loss of Use Accident | E7: 0 | F7: 0.1135 | G7: =CONCATENATE(A7,"-",B7,"-",C7,"-",D7,"-",E7) -> BULLS-12M-Less 50-Loss of Use Accident-0
A8: BULLS | B8: 12M | C8: Less 50 | D8: Loss of Use Accident | E8: 0.1 | F8: 0.1022 | G8: =CONCATENATE(A8,"-",B8,"-",C8,"-",D8,"-",E8) -> BULLS-12M-Less 50-Loss of Use Accident-0.1
A9: BULLS | B9: 12M | C9: Less 50 | D9: Loss of Use Accident | E9: 0.15 | F9: 0.0965 | G9: =CONCATENATE(A9,"-",B9,"-",C9,"-",D9,"-",E9) -> BULLS-12M-Less 50-Loss of Use Accident-0.15
A10: BULLS | B10: 12M | C10: Less 50 | D10: Loss of Use Accident | E10: 0.2 | F10: 0.0908 | G10: =CONCATENATE(A10,"-",B10,"-",C10,"-",D10,"-",E10) -> BULLS-12M-Less 50-Loss of Use Accident-0.2
A11: BULLS | B11: 12M | C11: Less 50 | D11: Loss of Use Accident | E11: 0.25 | F11: 0.0851 | G11: =CONCATENATE(A11,"-",B11,"-",C11,"-",D11,"-",E11) -> BULLS-12M-Less 50-Loss of Use Accident-0.25
A12: BULLS | B12: 12M | C12: Less 50 | D12: Mortality | E12: 0 | F12: 0.0543 | G12: =CONCATENATE(A12,"-",B12,"-",C12,"-",D12,"-",E12) -> BULLS-12M-Less 50-Mortality-0
A13: BULLS | B13: 12M | C13: Less 50 | D13: Mortality | E13: 0.1 | F13: 0.0489 | G13: =CONCATENATE(A13,"-",B13,"-",C13,"-",D13,"-",E13) -> BULLS-12M-Less 50-Mortality-0.1
... A201: RAMS | B201: 6M | C201: More 50 | D201: Mortality | E201: 0.25 | F201: 0.0494 | G201: =CONCATENATE(A201,"-",B201,"-",C201,"-",D201,"-",E201) -> RAMS-6M-More 50-Mortality-0.25

Sheet Manual rates
A1: CATEGORY | D1: COVER | F1: PERIOD OF COVER
F2: 6 mths | G2: 12 mths
A3: Cattle - Bulls | D3: Mortality | F3: 0.0471 | G3: 0.0589
D4: Mortality & Loss of use | F4: 0.114 | G4: 0.1425
A5: Cattle - Cows & Other | D5: Mortality | F5: 0.05 | G5: 0.074
A6: Sheep - Rams* | D6: Mortality | F6: 0.0845 | G6: 0.128
A7: Sheep - Ewes | D7: Mortality | F7: 0.1015 | G7: 0.1485
A8: All | D8: Theft (not available as stand alone cover) | F8: 0.0045 | G8: 0.007
A10: *Maximum Sum Insured per animal is $70,000.
A11: *Rams - Mortality plus Loss of use accident, please contact RMA Insurance Brokers
A12: *$11 Underwriter/Broker fee aplies to each policy. ($10 plus GST)
A14: Stamp Duty - Location | D14: Calculation formula (premiums over $910)
A16: NSW | B16: 0 | D16: Total Sum Insured
A17: VIC | B17: 0 | D17: Premium @ % Note minimum premium $910 + SD and GST
A18: ACT | B18: 0
A19: QLD | B19: 0.09 | D19: Add GST 10.00%
A20: TAS | B20: 0.1 | D20: SUB TOTAL
A21: SA | B21: 0.11 | D21: Add SD @ %**
A22: WA | B22: 0.1 | D22: Underwriter Fee $75 + GST | G22: 82.5
A23: NT | B23: 0.1 | D23: TOTAL | G23: $
A25: What stamp duty applies?
A26: The address where the animal is to be located (Situation) will determine the stamp
A27: duty applicable.
A28: What is the sum insured?
A29: The sum insured is the purchase price of the animal paid by the insured.
A30: What age restrictions are applicable?
A31: • Cattle – minimum 6 months, maximum rising 7 years
A32: • Sheep – minimum 6 months, maximum rising 4 years.
A33: When does cover take effect?
A34: From fall of hammer on the day of sale, provided:
A35: • the application card has been signed and dated by the insured (or their agent) on
A36: the day of sale and no loss has occurred prior to signing the card.
... A41: questions’ in this card.

Sheet Rates & Rating
A1: Rates | B1: Type | C1: 6 Months | D1: 12 months | G1: Rates | H1: Type | I1: 6 Months | J1: 12 months
A2: Bull | B2: Mortality | C2: 0.0471 | D2: 0.0589 | G2: Bull | H2: Mortality & Loss of Use | I2: 0.114 | J2: 0.1425 | O2: CGU | P2: 5.5% loading if required to be used | T2: 0.057
A3: Cow | B3: Mortality | C3: 0.05 | D3: 0.074 | G3: Ram | H3: Mortality & Loss of Use | I3: 0.1109 | J3: 0.1668 | O3: RA
A4: Ewe | B4: Mortality | C4: 0.1015 | D4: 0.1485
A5: Ram | B5: Mortality | C5: 0.0845 | D5: 0.128
O6: Insurers
B7: minumum base premium | C7: 910 | O7: Rural Affinity Insurance | P7: Rural Affinity Insurance Agency Pty Ltd | Q7: ABN 72 119 838 854 AFS Licence No. 302182 | R7: Underwritten by Great Lakes Insurance SE trading as Great Lakes Australia (ARBN 127 740 532, ABN 18 964 580 576, AFSL 318603)
O8: Rural Affinity Insurance | P8: Rural Affinity Insurance Agency Pty Ltd | Q8: ABN 72 119 838 854 AFS Licence No. 302182 | R8: Underwritten by Great Lakes Insurance SE trading as Great Lakes Australia (ARBN 127 740 532, ABN 18 964 580 576, AFSL 318603)
B9: THEFT | C9: 0.0045 | D9: 0.007
I10: Stud | J10: Under 1500
B11: TRANSIT INSURANCE ONLY | C11: =IF('Quote & Application'!#REF!='drop downs'!T3,J11,I11) -> #REF! | D11: referal for any animals over $35,000 | I11: 0.01 | J11: 0.005
A13: Calculations
A15: Type | B15: =CONCATENATE('Quote & Application'!E6) -> BULLS | C15: Mortality | D15: 6 Months | E15: =LOOKUP(B15,A2:A5,C2:C5) -> 0.0471 | F15: Mortality | G15: 12 Months | H15: =LOOKUP(B15,A2:A5,D2:D5) -> 0.0589
C16: Mortality & Loss of Use | D16: 6 Months | E16: =LOOKUP(B15,G2:G3,I2:I3) -> 0.114 | F16: Mortality & Loss of Use | G16: 12 Months | H16: =LOOKUP(B15,G2:G3,J2:J3) -> 0.1425
F18: Theft
B19: =CONCATENATE('Quote & Application'!E7) -> Mortality & Loss of Use | C19: Six Months | D19: =LOOKUP(B19,C15:C16,E15:E16) -> 0.114 | F19: =SUM(C9) -> 0.0045
C20: Twelve Months | D20: =LOOKUP(B19,F15:F16,H15:H16) -> 0.1425 | F20: =SUM(D9) -> 0.007
B22: =CONCATENATE('Quote & Application'!E8) -> Twelve Months | C22: =LOOKUP(B22,C19:C20,D19:D20) -> 0.1425 | F22: =LOOKUP(B22,C19:C20,F19:F20) -> 0.007
A24: CGU
A26: theft | B26: =CONCATENATE('Quote & Application'!I23) -> NO | C26: =IF('Quote & Application'!I23="Yes",F22,0) -> 0
B29: Overall Rate | C29: =SUM(C22+C26) -> 0.1425
